BEGIN:VCALENDAR
VERSION:2.0
PRODID:-//ChamberMaster//Event Calendar 2.0//EN
METHOD:PUBLISH
X-PUBLISHED-TTL:P3D
REFRESH-INTERVAL:P3D
CALSCALE:GREGORIAN
BEGIN:VEVENT
DTSTART:20250722T140000Z
DTEND:20250722T160000Z
X-MICROSOFT-CDO-ALLDAYEVENT:FALSE
SUMMARY:2025 Business Workshop Series: Business Succession Planning
DESCRIPTION:Learn how to smoothly transition your business to the next generation or new owner at our Business Succession Planning event.\n\n\n\nAre you ready to take your business to the next level? Join us for a morning filled with valuable insights and strategies on planning for the future of your business.\n\n\n\nLearn from industry experts and successful entrepreneurs with the Oklahoma Small Business Development Center as they share their tips and tricks for ensuring a smooth transition of ownership. Do not miss this opportunity to secure the success of your business for generations to come.\n\n\n\nTo register\, CLICK HERE.
X-ALT-DESC;FMTTYPE=text/html:Learn how to smoothly transition your business to the next generation or new owner at our Business Succession Planning event.<br />\n<br />\nAre you ready to take your business to the next level? Join us for a morning filled with valuable insights and strategies on planning for the future of your business.<br />\n<br />\nLearn from industry experts and successful entrepreneurs with the Oklahoma Small Business Development Center as they share their tips and tricks for ensuring a smooth transition of ownership. Do not miss this opportunity to secure the success of your business for generations to come.<br />\n<br />\nTo register\, <a href="https://www.eventbrite.com/e/business-succession-planning-tickets-1115911073059?aff=oddtdtcreator">CLICK HERE</a>.&nbsp\;
LOCATION:Indian Capital Technology Center - Coweta Campus 31350 State Hwy. 51 Coweta
UID:e.1307.4843
SEQUENCE:3
DTSTAMP:20260424T112843Z
URL:https://business.cowetachamber.com/events/details/2025-business-workshop-series-business-succession-planning-4843
END:VEVENT

END:VCALENDAR
