BEGIN:VCALENDAR
VERSION:2.0
PRODID:-//ChamberMaster//Event Calendar 2.0//EN
METHOD:PUBLISH
X-PUBLISHED-TTL:P3D
REFRESH-INTERVAL:P3D
CALSCALE:GREGORIAN
BEGIN:VEVENT
DTSTART:20250417T160000Z
DTEND:20250417T180000Z
X-MICROSOFT-CDO-ALLDAYEVENT:FALSE
SUMMARY:2025 Brunch & Learn for Realtors Presented by Titan Title & Closing and Top Flite Home Loans
DESCRIPTION:Area realtors and brokers are invited to attend a Brunch & Learn event to address home inspections. The gathering will be hosted by Titan Title & Closing\, LLC and Top Flite Home Loans.\n\n\n\nPresenting the program will be Joe Jolley with Top Priority Home Inspections.\n\n\n\nThose attending the meeting will receive one hour of continuing education credit.  Light appetizers will be served.\n\n\n\nRSVP's are encouraged by texting Carla Holtz at 918-645-9600.
X-ALT-DESC;FMTTYPE=text/html:Area realtors and brokers are invited to attend a Brunch &amp\; Learn event to address home inspections. The gathering will be hosted by Titan Title &amp\; Closing\, LLC and Top Flite Home Loans.<br />\n<br />\nPresenting the program will be Joe Jolley with Top Priority Home Inspections.<br />\n<br />\nThose attending the meeting will receive one hour of continuing education credit.&nbsp\; Light appetizers will be served.<br />\n<br />\nRSVP&#39\;s are encouraged by texting Carla Holtz at 918-645-9600.
LOCATION:1843 on Broadway 124 S. Broadway Coweta
UID:e.1307.4856
SEQUENCE:3
DTSTAMP:20260424T130129Z
URL:https://business.cowetachamber.com/events/details/2025-brunch-learn-for-realtors-presented-by-titan-title-closing-and-top-flite-home-loans-4856
END:VEVENT

END:VCALENDAR
