BEGIN:VCALENDAR
VERSION:2.0
PRODID:-//ChamberMaster//Event Calendar 2.0//EN
METHOD:PUBLISH
X-PUBLISHED-TTL:P3D
REFRESH-INTERVAL:P3D
CALSCALE:GREGORIAN
BEGIN:VEVENT
DTSTART:20250821T160000Z
DTEND:20250821T180000Z
X-MICROSOFT-CDO-ALLDAYEVENT:FALSE
SUMMARY:2025 Brunch & Learn: Basics of Probate and POA by Titan Title & Closing
DESCRIPTION:Coweta area realtors and brokers\, as well as the public\, are invited to attend a Brunch & Learn event to address the basics of Probate and POA. The gathering will be hosted by Titan Title & Closing\, LLC.\n\n\n\nSpecial guest speaker will be Kathy Murphy with Titan Title. Light appetizers will be served.\n\n\n\nRSVP's are encouraged by texting Carla Holtz at 918-645-9600.
X-ALT-DESC;FMTTYPE=text/html:Coweta area realtors and brokers\, as well as the public\, are invited to attend a Brunch &amp\; Learn event to address the basics of Probate and POA. The gathering will be hosted by Titan Title &amp\; Closing\, LLC.<br />\n<br />\nSpecial guest speaker will be Kathy Murphy with Titan Title. Light appetizers will be served.<br />\n<br />\nRSVP&#39\;s are encouraged by texting Carla Holtz at 918-645-9600.
LOCATION:1843 on Broadway 124 S. Broadway Coweta
UID:e.1307.5284
SEQUENCE:3
DTSTAMP:20260424T084906Z
URL:https://business.cowetachamber.com/events/details/2025-brunch-learn-basics-of-probate-poa-by-titan-title-closing-5284
END:VEVENT

END:VCALENDAR
