BEGIN:VCALENDAR
VERSION:2.0
PRODID:-//ChamberMaster//Event Calendar 2.0//EN
METHOD:PUBLISH
X-PUBLISHED-TTL:P3D
REFRESH-INTERVAL:P3D
CALSCALE:GREGORIAN
BEGIN:VEVENT
DTSTART:20250416T170000Z
DTEND:20250416T181500Z
X-MICROSOFT-CDO-ALLDAYEVENT:FALSE
SUMMARY:2025 April General Membership Meeting
DESCRIPTION:A quality education\, coupled with hands-on training and workforce development\, are key to preparing business leaders of tomorrow and ensuring a successful workforce. Our April General Membership Meeting will be a "State of Education" session. Guest speakers will be Coweta Public Schools Superintendent Max Myers\, Indian Capital Technology Center Superintendent Tony Pivec and ICTC Coweta Campus Director Chris Helling.\n\n\n\nWe will also introduce you to newly elected board members and briefly touch on upcoming events.\n\n\n\nPlease support a local restaurant\, pick up a "to go" order for lunch and bring it with you. Remember your business cards as well for networking opportunities.
X-ALT-DESC;FMTTYPE=text/html:<span style="font-size:14px\;">A quality education\, coupled with hands-on training and workforce development\, are key to preparing business leaders of tomorrow and ensuring a successful workforce. Our April General Membership Meeting will be a &quot\;State of Education&quot\; session. Guest speakers will be Coweta Public Schools Superintendent Max Myers\, Indian Capital Technology Center Superintendent Tony Pivec and ICTC Coweta Campus Director Chris Helling.<br />\n<br />\nWe will also introduce you to newly elected board members and briefly touch on upcoming events.</span><br />\n<br />\n<span style="font-size:14px\;">Please support a local restaurant\, pick up a &quot\;to go&quot\; order for lunch and bring it with you. Remember your business cards as well for networking opportunities.</span><br />\n&nbsp\;
LOCATION:Coweta Assembly Family Life Center 29707 E. State Hwy. 51 Coweta
UID:e.1307.4859
SEQUENCE:3
DTSTAMP:20260426T020416Z
URL:https://business.cowetachamber.com/events/details/2025-april-general-membership-meeting-4859
END:VEVENT

END:VCALENDAR
