BEGIN:VCALENDAR
VERSION:2.0
PRODID:-//ChamberMaster//Event Calendar 2.0//EN
METHOD:PUBLISH
X-PUBLISHED-TTL:P3D
REFRESH-INTERVAL:P3D
CALSCALE:GREGORIAN
BEGIN:VEVENT
DTSTART:20250410T124500Z
DTEND:20250410T140000Z
X-MICROSOFT-CDO-ALLDAYEVENT:FALSE
SUMMARY:2025 April Coffee & Conversation
DESCRIPTION:Networking is like coffee - energizing\, warm and best enjoyed with great company. Join us this month as we gather for Coffee & Conversation. The folks at Titan Title have a fun door prize giveaway planned\, so be sure to sign up while you're there!\n\n\n\nBring your business card and make some business connections. See you on April 10!
X-ALT-DESC;FMTTYPE=text/html:Networking is like coffee - energizing\, warm and best enjoyed with great company. Join us this month as we gather for Coffee &amp\; Conversation. The folks at Titan Title have a fun door prize giveaway planned\, so be sure to sign up while you&#39\;re there!<br />\n<br />\nBring your business card and make some business connections. See you on April 10!
LOCATION:Titan Title & Closing\, LLC 30091 E. Highway 51 Suite A Coweta
UID:e.1307.4854
SEQUENCE:3
DTSTAMP:20260424T125633Z
URL:https://business.cowetachamber.com/events/details/2025-april-coffee-conversation-4854
END:VEVENT

END:VCALENDAR
