BEGIN:VCALENDAR
VERSION:2.0
PRODID:-//ChamberMaster//Event Calendar 2.0//EN
METHOD:PUBLISH
X-PUBLISHED-TTL:P3D
REFRESH-INTERVAL:P3D
CALSCALE:GREGORIAN
BEGIN:VEVENT
DTSTART:20250422T163000Z
DTEND:20250422T174500Z
X-MICROSOFT-CDO-ALLDAYEVENT:FALSE
SUMMARY:2025 April Business Bites
DESCRIPTION:Let's support our local restaurant industry! Join us for a casual dutch treat lunch to network and get to know one another in a setting outside of our own businesses.
X-ALT-DESC;FMTTYPE=text/html:Let&#39\;s support our local restaurant industry! Join us for a casual dutch treat lunch to network and get to know one another in a setting outside of our own businesses.&nbsp\;
LOCATION:Goodfella's Pizzeria 124 N. Broadway Downtown Coweta
UID:e.1307.4860
SEQUENCE:3
DTSTAMP:20260424T125755Z
URL:https://business.cowetachamber.com/events/details/2025-april-business-bites-4860
END:VEVENT

END:VCALENDAR
