BEGIN:VCALENDAR
VERSION:2.0
PRODID:-//ChamberMaster//Event Calendar 2.0//EN
METHOD:PUBLISH
X-PUBLISHED-TTL:P3D
REFRESH-INTERVAL:P3D
CALSCALE:GREGORIAN
BEGIN:VEVENT
DTSTART;VALUE=DATE:20250823
DTEND;VALUE=DATE:20250824
TRANSP:TRANSPARENT
X-MICROSOFT-CDO-ALLDAYEVENT:TRUE
SUMMARY:2025 5th Anniversary Celebration at 1843 on Broadway
DESCRIPTION:Join the owners and staff at 1843 on Broadway as the upscale restaurant in the Downtown Coweta Broadway District celebrates its 5th Anniversary.\n\n\n\nThroughout the day and especially that evening\, the 1843 crew wants to say "thank you for your support" with specials all day\, including giveaways and more! Restaurant hours are 10 a.m. to 10 p.m.\n\n\n\nFrom 6-8 p.m.\, there will be a fun cocktail tasting party upstairs with Rock Town Vodka. Try multiple flavored vodkas with cocktail drinks. There will be a special gift to take home for those who sign up!
X-ALT-DESC;FMTTYPE=text/html:Join the owners and staff at 1843 on Broadway as the upscale restaurant in the Downtown Coweta Broadway District celebrates its 5th Anniversary.<br />\n<br />\nThroughout the day and especially that evening\, the 1843 crew wants to say &quot\;thank you for your support&quot\; with specials all day\, including giveaways and more! Restaurant hours are 10 a.m. to 10 p.m.<br />\n<br />\nFrom 6-8 p.m.\, there will be a fun cocktail tasting party upstairs with Rock Town Vodka. Try multiple flavored vodkas with cocktail drinks. There will be a special gift to take home for those who sign up!
LOCATION:1843 on Broadway 124 S. Broadway Downtown Coweta
UID:e.1307.5285
SEQUENCE:3
DTSTAMP:20260424T112701Z
URL:https://business.cowetachamber.com/events/details/2025-5th-anniversary-celebration-at-1843-on-broadway-5285
END:VEVENT

END:VCALENDAR
