BEGIN:VCALENDAR
VERSION:2.0
PRODID:-//ChamberMaster//Event Calendar 2.0//EN
METHOD:PUBLISH
X-PUBLISHED-TTL:P3D
REFRESH-INTERVAL:P3D
CALSCALE:GREGORIAN
BEGIN:VEVENT
DTSTART:20250605T133000Z
DTEND:20250605T190000Z
X-MICROSOFT-CDO-ALLDAYEVENT:FALSE
SUMMARY:2025 33rd Annual Coweta Chamber Golf Tournament Presented by Kinetic
DESCRIPTION:Hit the fairways and greens to compete for bragging rights in the 33rd Annual Coweta Chamber Golf Tournament. \n\n\n\nThis event is a great opportunity for you to network with others\, promote your company\, products and services and enjoy a day at the golf club while supporting the Coweta Chamber of Commerce.\n\n\n\nYour investment will help us continue our work to promote your businesses\, advocate on your behalf and build our community. Thank you!
X-ALT-DESC;FMTTYPE=text/html:<span style="color: rgb(51\, 51\, 51)\; font-family: sans-serif\, Arial\, Verdana\, &quot\;Trebuchet MS&quot\;\; font-size: 13px\; background-color: rgb(255\, 255\, 255)\;">Hit the fairways and greens to compete for bragging rights in the 33rd Annual Coweta Chamber Golf Tournament.&nbsp\;<br />\n<br />\nThis event is a great opportunity for you to network with others\, promote your company\, products and services and enjoy a day at the golf club while supporting the Coweta Chamber of Commerce.<br />\n<br />\nYour investment will help us continue our work to promote your businesses\, advocate on your behalf and build our community. Thank you!</span>
LOCATION:Cherokee Hills Golf Club 770 W. Cherokee St. Catoosa\, OK
UID:e.1307.4864
SEQUENCE:3
DTSTAMP:20260424T130129Z
URL:https://business.cowetachamber.com/events/details/2025-33rd-annual-coweta-chamber-golf-tournament-presented-by-kinetic-4864
END:VEVENT

END:VCALENDAR
