BEGIN:VCALENDAR
VERSION:2.0
PRODID:-//ChamberMaster//Event Calendar 2.0//EN
METHOD:PUBLISH
X-PUBLISHED-TTL:P3D
REFRESH-INTERVAL:P3D
CALSCALE:GREGORIAN
BEGIN:VEVENT
DTSTART:20240930T213000Z
DTEND:20240930T220000Z
X-MICROSOFT-CDO-ALLDAYEVENT:FALSE
SUMMARY:2024 Ribbon Cutting for Word of Life Church
DESCRIPTION:Please join us for a ribbon cutting celebration as we welcome Word of Life Church into membership with the Coweta Chamber of Commerce.
X-ALT-DESC;FMTTYPE=text/html:Please join us for a ribbon cutting celebration as we welcome Word of Life Church into membership with the Coweta Chamber of Commerce.
LOCATION:Word of Life Church 26858 E. 121st Street So. Coweta
UID:e.1307.4805
SEQUENCE:3
DTSTAMP:20260425T015132Z
URL:https://business.cowetachamber.com/events/details/2024-ribbon-cutting-for-word-of-life-church-4805
END:VEVENT

END:VCALENDAR
