BEGIN:VCALENDAR
VERSION:2.0
PRODID:-//ChamberMaster//Event Calendar 2.0//EN
METHOD:PUBLISH
X-PUBLISHED-TTL:P3D
REFRESH-INTERVAL:P3D
CALSCALE:GREGORIAN
BEGIN:VEVENT
DTSTART:20241113T223000Z
DTEND:20241113T230000Z
X-MICROSOFT-CDO-ALLDAYEVENT:FALSE
SUMMARY:2024 Ribbon Cutting for The Cupcakery Cakes & Catering
DESCRIPTION:Please join us for a ribbon cutting celebration as we welcome The Cupcakery Cakes & Catering in Wagoner as a new member of the Coweta Chamber of Commerce.
X-ALT-DESC;FMTTYPE=text/html:Please join us for a ribbon cutting celebration as we welcome The Cupcakery Cakes &amp\; Catering in Wagoner as a new member of the Coweta Chamber of Commerce.&nbsp\;<br />\n&nbsp\;
LOCATION:The Cupcakery Cakes & Catering 1208 S.E. 13th Street Wagoner
UID:e.1307.4818
SEQUENCE:3
DTSTAMP:20260424T222818Z
URL:https://business.cowetachamber.com/events/details/2024-ribbon-cutting-for-the-cupcakery-cakes-catering-4818
END:VEVENT

END:VCALENDAR
