BEGIN:VCALENDAR
VERSION:2.0
PRODID:-//ChamberMaster//Event Calendar 2.0//EN
METHOD:PUBLISH
X-PUBLISHED-TTL:P3D
REFRESH-INTERVAL:P3D
CALSCALE:GREGORIAN
BEGIN:VEVENT
DTSTART:20240906T150000Z
DTEND:20240906T153000Z
X-MICROSOFT-CDO-ALLDAYEVENT:FALSE
SUMMARY:2024 Ribbon Cutting for T-Mart Gas Station
DESCRIPTION:Please join us for a ribbon cutting celebration as we welcome T-Mart Gas Station as a new member of the Coweta Chamber of Commerce.
X-ALT-DESC;FMTTYPE=text/html:Please join us for a ribbon cutting celebration as we welcome T-Mart Gas Station as a new member of the Coweta Chamber of Commerce.&nbsp\;<br />\n&nbsp\;
LOCATION:T-Mart Gas Station 30455 E. State Hwy. 51 Corner of Hwy. 51 and 305th E. Ave. Coweta
UID:e.1307.4804
SEQUENCE:3
DTSTAMP:20260424T235854Z
URL:https://business.cowetachamber.com/events/details/2024-ribbon-cutting-for-t-mart-gas-station-4804
END:VEVENT

END:VCALENDAR
