BEGIN:VCALENDAR
VERSION:2.0
PRODID:-//ChamberMaster//Event Calendar 2.0//EN
METHOD:PUBLISH
X-PUBLISHED-TTL:P3D
REFRESH-INTERVAL:P3D
CALSCALE:GREGORIAN
BEGIN:VEVENT
DTSTART:20241010T124500Z
DTEND:20241010T140000Z
X-MICROSOFT-CDO-ALLDAYEVENT:FALSE
SUMMARY:2024 October Coffee & Conversation Networking Event
DESCRIPTION:Join us for coffee\, morning snacks and conversation at our popular morning networking event\, hosted this month at the Coweta Chamber office by Heather Simon with Top Flite Financial.\n\n\n\nAs October is Domestic Violence Awareness Month\, we will be collecting personal hygiene items and other household essentials to donate to Linda's House\, a crisis shelter and safe house operated by our chamber investors with Help in Crisis. Wagoner County DV/SA Advocate Heather Wright said Linda's House serves an average of 22 families/domestic violence victims on a monthly basis.\n\n\n\nThe current list of needs at the shelter include toothbrushes\, toothpaste\, toilet paper\, shampoo and conditioner\, deodorant\, feminine hygiene products\, hairbrushes\, combs\, dish soap\, laundry soap\, pillows\, towels\, sheets\, comforters and cleaning products.\n\n\n\nIf you can help with this project\, please bring any of the above listed items with you. We have string backpacks available at the chamber office if you would like to pick one up to place items in. We will deliver the bags to Help in Crisis at the end of the month.\n\n\n\nCoffee & Conversation is a casual get-together to start your workday on a positive note with your business peers. Remember to bring a friend\, your business cards and let's make those business connections!\n\n\n\nHope to see you on October 10!
X-ALT-DESC;FMTTYPE=text/html:Join us for coffee\, morning snacks and conversation at our popular morning networking event\, hosted this month at the Coweta Chamber office by Heather Simon with Top Flite Financial.<br />\n<br />\nAs October is Domestic Violence Awareness Month\, we will be collecting personal hygiene items and other household essentials to donate to Linda&rsquo\;s House\, a crisis shelter and safe house operated by our chamber investors with Help in Crisis. Wagoner County DV/SA Advocate Heather Wright said Linda&rsquo\;s House serves an average of 22 families/domestic violence victims on a monthly basis.<br />\n<br />\nThe current list of needs at the shelter include toothbrushes\, toothpaste\, toilet paper\, shampoo and conditioner\, deodorant\, feminine hygiene products\, hairbrushes\, combs\, dish soap\, laundry soap\, pillows\, towels\, sheets\, comforters and cleaning products.<br />\n<br />\nIf you can help with this project\, please bring any of the above listed items with you. We have string backpacks available at the chamber office if you would like to pick one up to place items in. We will deliver the bags to Help in Crisis at the end of the month.<br />\n<br />\nCoffee &amp\; Conversation is a casual get-together to start your workday on a positive note with your business peers. Remember to bring a friend\, your business cards and let&#39\;s make those business connections!<br />\n<br />\nHope to see you on October 10!<br />\n&nbsp\;
LOCATION:Coweta Chamber Office 115 S. Broadway Downtown Coweta
UID:e.1307.4812
SEQUENCE:3
DTSTAMP:20260424T235603Z
URL:https://business.cowetachamber.com/events/details/2024-october-coffee-conversation-networking-event-4812
END:VEVENT

END:VCALENDAR
