BEGIN:VCALENDAR
VERSION:2.0
PRODID:-//ChamberMaster//Event Calendar 2.0//EN
METHOD:PUBLISH
X-PUBLISHED-TTL:P3D
REFRESH-INTERVAL:P3D
CALSCALE:GREGORIAN
BEGIN:VEVENT
DTSTART:20241119T180000Z
DTEND:20241119T191500Z
X-MICROSOFT-CDO-ALLDAYEVENT:FALSE
SUMMARY:2024 November General Membership Meeting
DESCRIPTION:Join us for our November general membership meeting as Pat Crofts\, CEO of Muscogee Nation Gaming Enterprises\, and Emmanuel Bazzel\, Chief of Gaming Operations\, will share details of the $100 million Coweta Casino Hotel that broke ground last week in our community. \n\n\n\nThis project will bring an estimated 501 jobs to the community during the construction phase\, and 250 jobs once the facility opens in the Spring of 2026. \n\n\n\nThere will be a time for questions and answers.\n\n\n\nThe Muscogee Nation Gaming Enterprises team will provide lunch catered from River Spirit. Registration is required no later than 12 noon on Friday\, Nov. 15 to ensure an accurate meal count. Our thanks to Sarah Wells - Oklahoma Farm Bureau for the meeting sponsorship.
X-ALT-DESC;FMTTYPE=text/html:Join us for our November general membership meeting as Pat Crofts\, CEO of Muscogee Nation Gaming Enterprises\, and Emmanuel Bazzel\, Chief of Gaming Operations\, will share details of the $100 million Coweta Casino Hotel that broke ground last week in our community.&nbsp\;<br />\n<br />\nThis project will bring an estimated 501 jobs to the community during the construction phase\, and 250 jobs once the facility opens in the Spring of 2026.&nbsp\;<br />\n<br />\nThere will be a time for questions and answers.<br />\n<br />\nThe Muscogee Nation Gaming Enterprises team will provide lunch catered from River Spirit. Registration is required no later than 12 noon on Friday\, Nov. 15 to ensure an accurate meal count. Our thanks to Sarah Wells - Oklahoma Farm Bureau for the meeting sponsorship.
LOCATION:Indian Capital Technology Center 31350 State Hwy. 51 Coweta
UID:e.1307.4819
SEQUENCE:3
DTSTAMP:20260424T222642Z
URL:https://business.cowetachamber.com/events/details/2024-november-general-membership-meeting-4819
END:VEVENT

END:VCALENDAR
