BEGIN:VCALENDAR
VERSION:2.0
PRODID:-//ChamberMaster//Event Calendar 2.0//EN
METHOD:PUBLISH
X-PUBLISHED-TTL:P3D
REFRESH-INTERVAL:P3D
CALSCALE:GREGORIAN
BEGIN:VEVENT
DTSTART:20241010T223000Z
DTEND:20241011T000000Z
X-MICROSOFT-CDO-ALLDAYEVENT:FALSE
SUMMARY:2024 Meet and Greet with State Representative Candidate Mark Chapman
DESCRIPTION:Coweta Chamber member Mark Chapman is a candidate for State Representative\, House District 12. A meet-and-greet for the candidate is planned Thursday\, Oct. 10 from 5:30-7 p.m. at 1843 on Broadway\, 124 S. Broadway. Mr. Chapman invites all fellow chamber members to stop by.\n\n \n\nSpecial guest at the event will be Representative Kevin Hern.\n\n\n\nTo RSVP\, call 918-838-9432 or send an email to Mark@ChapmanForOK.com.
X-ALT-DESC;FMTTYPE=text/html:Coweta Chamber member Mark Chapman is a candidate for State Representative\, House District 12. A meet-and-greet for the candidate is planned Thursday\, Oct. 10 from 5:30-7 p.m. at 1843 on Broadway\, 124 S. Broadway. Mr. Chapman invites all fellow chamber members to stop by.<br />\n&nbsp\;<br />\nSpecial guest at the event will be Representative Kevin Hern.<br />\n<br />\nTo RSVP\, call 918-838-9432 or send an email to Mark@ChapmanForOK.com.<br />\n<br />\n<br />\n&nbsp\;
LOCATION:1843 on Broadway 124 S. Broadway Downtown Coweta
UID:e.1307.4811
SEQUENCE:3
DTSTAMP:20260424T235730Z
URL:https://business.cowetachamber.com/events/details/2024-meet-and-greet-with-state-representative-candidate-mark-chapman-4811
END:VEVENT

END:VCALENDAR
