BEGIN:VCALENDAR
VERSION:2.0
PRODID:-//ChamberMaster//Event Calendar 2.0//EN
METHOD:PUBLISH
X-PUBLISHED-TTL:P3D
REFRESH-INTERVAL:P3D
CALSCALE:GREGORIAN
BEGIN:VEVENT
DTSTART:20241210T220000Z
DTEND:20241211T000000Z
X-MICROSOFT-CDO-ALLDAYEVENT:FALSE
SUMMARY:2024 Keller Williams Pictures with Santa
DESCRIPTION:Join the Keller Williams Realty Preferred Team at the historic Mission Bell for a magical evening. Santa and Mrs. Claus will be ready to take photos with everyone - children\, fur babies and even adults! Photos are complimentary and a perfect way to kick off the Christmas season.\n\n\n\nThis season\, Keller Williams is hoping to spread even more Christmas cheer. They are teaming up with CASA and State Farm to provide Christmas stockings filled with holiday cheer for the children who are served by the CASA program.\n\n\n\nThey are collecting stocking stuffers to include Play Dough\, small card games\, small toys\, Christmas candy\, gift cards or any other stocking-sized item that would make a child smile. Please bring items with you when you come.\n\n\n\nLet's come together to share the magic of Christmas!
X-ALT-DESC;FMTTYPE=text/html:Join the Keller Williams Realty Preferred Team at the historic Mission Bell for a magical evening. Santa and Mrs. Claus will be ready to take photos with everyone - children\, fur babies and even adults! Photos are complimentary and a perfect way to kick off the Christmas season.<br />\n<br />\nThis season\, Keller Williams is hoping to spread even more Christmas cheer. They are teaming up with CASA and State Farm to provide Christmas stockings filled with holiday cheer for the children who are served by the CASA program.<br />\n<br />\nThey are collecting stocking stuffers to include Play Dough\, small card games\, small toys\, Christmas candy\, gift cards or any other stocking-sized item that would make a child smile. Please bring items with you when you come.<br />\n<br />\nLet&#39\;s come together to share the magic of Christmas!
LOCATION:Mission Bell 204 S. Bristow Ave. Coweta
UID:e.1307.4824
SEQUENCE:3
DTSTAMP:20260424T211027Z
URL:https://business.cowetachamber.com/events/details/2024-keller-williams-pictures-with-santa-4824
END:VEVENT

END:VCALENDAR
