BEGIN:VCALENDAR
VERSION:2.0
PRODID:-//ChamberMaster//Event Calendar 2.0//EN
METHOD:PUBLISH
X-PUBLISHED-TTL:P3D
REFRESH-INTERVAL:P3D
CALSCALE:GREGORIAN
BEGIN:VEVENT
DTSTART:20241208T230000Z
DTEND:20241209T020000Z
X-MICROSOFT-CDO-ALLDAYEVENT:FALSE
SUMMARY:2024 "Christmas Village" at Ridge Christian - Coweta Campus
DESCRIPTION:Come enjoy a special evening at the "Christmas Village"\, featuring craft booths\, snacks\, photo opportunities and a petting zoo. Anyone in the community is invited  and admission is free!
X-ALT-DESC;FMTTYPE=text/html:Come enjoy a special evening at the &quot\;Christmas Village&quot\;\, featuring craft booths\, snacks\, photo opportunities and a petting zoo. Anyone in the community is invited&nbsp\; and admission is free!
LOCATION:Ridge Christian - Coweta Campus 14085 S. 296th E. Ave. Coweta
UID:e.1307.4828
SEQUENCE:3
DTSTAMP:20260424T224706Z
URL:https://business.cowetachamber.com/events/details/2024-christmas-village-at-ridge-christian-coweta-campus-4828
END:VEVENT

END:VCALENDAR
