BEGIN:VCALENDAR
VERSION:2.0
PRODID:-//ChamberMaster//Event Calendar 2.0//EN
METHOD:PUBLISH
X-PUBLISHED-TTL:P3D
REFRESH-INTERVAL:P3D
CALSCALE:GREGORIAN
BEGIN:VEVENT
DTSTART:20241122T003000Z
DTEND:20241122T040000Z
X-MICROSOFT-CDO-ALLDAYEVENT:FALSE
SUMMARY:2024 Awards Banquet/Annual Meeting Presented by the Coweta Chamber of Commerce
DESCRIPTION:Please mark your calendar for Thursday\, Nov. 21 when the Coweta Chamber of Commerce presents its 2024 Annual Awards Banquet at the Armed Forces Reserve Center in Broken Arrow.  "Harvest Blessings" is our banquet theme\, and we look forward to a great evening where we will celebrate excellence in our community.\n\n \n\nWe will announce and honor our 2024 Chamber Member Business of the Year\, Ruthe Harp Chamber Volunteer of the Year\, the Dr. Shawn Lee Leadership Award recipient and a Rising Star New Chamber Member of the Year. We will also recognize and honor Coweta's Citizen of the Year\, Non-Profit of the Year and a Hero of the Year from our community.\n\n \n\nTogether\, we will celebrate a year of success made possible by all of you through your time\, talent and resources.\n\n \n\nOur chamber partners at Meat Society will cater a delicious meal\, and Doug McKinney with McKinney Auction returns to help us with our live auction. A silent auction will also take place throughout the evening.
X-ALT-DESC;FMTTYPE=text/html:<p>Please mark your calendar for Thursday\, Nov. 21 when the Coweta Chamber of Commerce presents its 2024 Annual Awards Banquet at the Armed Forces Reserve Center in Broken Arrow.&nbsp\; &quot\;Harvest Blessings&quot\;&nbsp\;is our banquet theme\, and we look forward to a great evening where we will celebrate excellence in our community.<br />\n&nbsp\;<br />\nWe will announce and honor our 2024 Chamber Member Business of the Year\, Ruthe Harp Chamber Volunteer of the Year\, the Dr. Shawn Lee Leadership Award recipient and a Rising Star New Chamber Member of the Year. We will also recognize and honor Coweta&rsquo\;s Citizen of the Year\, Non-Profit of the Year and a Hero of the Year from our community.<br />\n&nbsp\;<br />\nTogether\, we will celebrate a year of success made possible by all of you through your time\, talent and resources.<br />\n&nbsp\;<br />\nOur chamber partners at Meat Society will cater a delicious meal\, and Doug McKinney with McKinney Auction returns to help us with our live auction. A silent auction will also take place throughout the evening.&nbsp\;<br />\n<br />\n<br />\n&nbsp\;</p>\n
LOCATION:Armed Forces Reserve Center 26501 E. 101st Street Broken Arrow
UID:e.1307.4816
SEQUENCE:3
DTSTAMP:20260424T223001Z
URL:https://business.cowetachamber.com/events/details/2024-awards-banquet-annual-meeting-presented-by-the-coweta-chamber-of-commerce-4816
END:VEVENT

END:VCALENDAR
