BEGIN:VCALENDAR
VERSION:2.0
PRODID:-//ChamberMaster//Event Calendar 2.0//EN
METHOD:PUBLISH
X-PUBLISHED-TTL:P3D
REFRESH-INTERVAL:P3D
CALSCALE:GREGORIAN
BEGIN:VEVENT
DTSTART:20240906T120000Z
DTEND:20240906T210000Z
X-MICROSOFT-CDO-ALLDAYEVENT:FALSE
SUMMARY:2024 4th Annual Ary Land Co. Invitational
DESCRIPTION:Join us as we tee off for a day of friendly competition and meaningful contribution in support of our future leaders in agriculture through local FFA chapters.\n\n\n\nWhether you are a avid golfer or just looking to support  a great cause\, this event promises to be both enjoyable and impactful. Together\, we can ensure that our future leaders have the resources and opportunities they need to succeed.
X-ALT-DESC;FMTTYPE=text/html:Join us as we tee off for a day of friendly competition and meaningful contribution in support of our future leaders in agriculture through local FFA chapters.<br />\n<br />\nWhether you are a avid golfer or just looking to support&nbsp\; a great cause\, this event promises to be both enjoyable and impactful. Together\, we can ensure that our future leaders have the resources and opportunities they need to succeed.
LOCATION:Cherokee Hills Golf Club Hard Rock Hotel & Casino 770 W. Cherokee St. Catoosa\, OK 74015
UID:e.1307.4801
SEQUENCE:3
DTSTAMP:20260424T235732Z
URL:https://business.cowetachamber.com/events/details/2024-4th-annual-ary-land-co-invitational-4801
END:VEVENT

END:VCALENDAR
