BEGIN:VCALENDAR
VERSION:2.0
PRODID:-//ChamberMaster//Event Calendar 2.0//EN
METHOD:PUBLISH
X-PUBLISHED-TTL:P3D
REFRESH-INTERVAL:P3D
CALSCALE:GREGORIAN
BEGIN:VEVENT
DTSTART:20240912T220000Z
DTEND:20240915T040000Z
X-MICROSOFT-CDO-ALLDAYEVENT:FALSE
SUMMARY:2024 49th Annual Coweta Fall Festival
DESCRIPTION:Please join us in the Downtown Coweta Broadway District for the 49th Annual Coweta Fall Festival! In addition to carnival rides\, vendor booths\, exceptional fair food and live stage entertainment\, the three-day celebration also includes a Fall Festival Pageant\, Coweta's Got Talent competition\, kids' games\, a car show and much more!\n\n\n\nWe also have two amazing fundraising dessert auctions to support our award winning Coweta Tiger Pride Band and our incredible Coweta Special Athletes Organization.\n\n\n\nWristband sessions are planned Thursday from 5-10 p.m.\, Friday from 5-11 p.m. and Saturday from 12 noon to 5 p.m. Wristbands purchased IN ADVANCE are $25 each and a different band is needed for each session. Wristbands purchased at the festival will be $30 each.\n\n\n\nThey will be available for purchase through our Chamber partners at FNB Coweta\, BancFirst\, RCB Bank\, Firstar Bank and Green Country Federal Credit Union in Coweta. \n\n\n\nAVAILABLE APPLICATIONS\n\n2024 FF Investment Opportunities Guide\n\n2024 FF Exhibitor Application and Packet\n\n2024 FF Food Vendor Application and Packet\n\n2024 Coweta's Got Talent Application\n\n2024 14th Annual DAV #88 Car Show Information \n\n2024 Fall Festival Parade Application\n\n2024 Miss Fall Festival Pageant Application\n\n2024 Junior Miss Fall Festival Pageant Application\n\n2024 Little Miss Fall Festival Pageant Application\n\n2024 Schedule of Events
X-ALT-DESC;FMTTYPE=text/html:<span style="font-size:26px\;">Please join us in the Downtown Coweta Broadway District for the 49<sup>th</sup> Annual Coweta Fall Festival! In addition to carnival rides\, vendor booths\, exceptional fair food and live stage entertainment\, the three-day celebration also includes a Fall Festival Pageant\, Coweta&rsquo\;s Got Talent competition\, kids&rsquo\; games\, a car show and much more!<br />\n<br />\nWe also have two amazing fundraising dessert auctions to support our award winning&nbsp\;<em><strong>Coweta Tiger Pride Band</strong></em> and our incredible <em><strong>Coweta Special Athletes Organization</strong></em>.<br />\n<br />\nWristband sessions are planned Thursday from 5-10 p.m.\, Friday from 5-11 p.m. and Saturday from 12 noon to 5 p.m. Wristbands purchased <strong>IN ADVANCE</strong> are <strong>$25 each</strong> and a different band is needed for each session. Wristbands purchased at the festival will be <strong>$30 each.</strong><br />\n<br />\nThey will be available for purchase through our Chamber partners at<em><strong> FNB Coweta\, BancFirst\,&nbsp\;</strong></em><em><strong>RCB Bank\, Firstar Bank </strong></em>and<em><strong> Green Country Federal Credit Union&nbsp\;</strong></em>in Coweta.&nbsp\;</span><br />\n<br />\n<font color="#3f3f3f" face="times new roman"><span style="font-size: 26px\;"><b>AVAILABLE APPLICATIONS</b><br />\n<a href="https://chambermaster.blob.core.windows.net/userfiles/UserFiles/chambers/1307/File/2024CowetaFallFestivalInvestmentOpportunitiesGuide.pdf">2024 FF Investment Opportunities Guide</a><br />\n<a href="https://chambermaster.blob.core.windows.net/userfiles/UserFiles/chambers/1307/File/2024CowetaFallFestivalExhibitorPacket.pdf">2024 FF Exhibitor Application and Packet</a><br />\n<a href="https://chambermaster.blob.core.windows.net/userfiles/UserFiles/chambers/1307/File/2024CowetaFallFestivalFoodVendorPacket.pdf">2024 FF Food Vendor Application and Packet</a><br />\n<a href="https://chambermaster.blob.core.windows.net/userfiles/UserFiles/chambers/1307/File/2024REVISEDCowetasGotTalentApplication.pdf">2024 Coweta&#39\;s Got Talent Application</a><br />\n<a href="https://chambermaster.blob.core.windows.net/userfiles/UserFiles/chambers/1307/File/NewDAVCarShowFlyer.jpg">2024 14th Annual DAV #88 Car Show Information&nbsp\;</a></span></font><br />\n<font color="#3f3f3f" face="times new roman"><span style="font-size: 26px\;"><a href="https://docs.google.com/forms/d/e/1FAIpQLSdH-bmNdd3gyiHaQ4xpNsWSBNetofqB7t1FWVeYemSaXv1pNg/viewform">2024 Fall Festival Parade Application</a></span></font><br />\n<font color="#3f3f3f" face="times new roman" style="font-size: 13px\;"><span style="font-size: 26px\;"><a href="https://chambermaster.blob.core.windows.net/userfiles/UserFiles/chambers/1307/File/2024MissFallFestivalPageantApplication.pdf">2024 Miss Fall Festival Pageant Application</a></span></font><br style="color: rgb(63\, 63\, 63)\; font-family: &quot\;times new roman&quot\;\; font-size: 26px\;" />\n<font color="#3f3f3f" face="times new roman" style="font-size: 13px\;"><span style="font-size: 26px\;"><a href="https://chambermaster.blob.core.windows.net/userfiles/UserFiles/chambers/1307/File/2024JuniorMissFallFestivalPageantApplication.pdf">2024 Junior Miss Fall Festival Pageant Application</a><br />\n<a href="https://chambermaster.blob.core.windows.net/userfiles/UserFiles/chambers/1307/File/2024LittleMissFallFestivalPageantApplication.pdf">2024 Little Miss Fall Festival Pageant Application</a></span></font><br />\n<font color="#3f3f3f" face="times new roman"><span style="font-size: 26px\;"><a href="https://chambermaster.blob.core.windows.net/userfiles/UserFiles/chambers/1307/File/2024FallFestivalScheduleofEvents.pdf">2024 Schedule of Events</a></span></font>
LOCATION:Downtown Broadway District Between Chestnut and Pecan
UID:e.1307.4791
SEQUENCE:3
DTSTAMP:20260424T235856Z
URL:https://business.cowetachamber.com/events/details/2024-49th-annual-coweta-fall-festival-4791
END:VEVENT

END:VCALENDAR
