BEGIN:VCALENDAR
VERSION:2.0
PRODID:-//ChamberMaster//Event Calendar 2.0//EN
METHOD:PUBLISH
X-PUBLISHED-TTL:P3D
REFRESH-INTERVAL:P3D
CALSCALE:GREGORIAN
BEGIN:VEVENT
DTSTART:20250820T170000Z
DTEND:20250820T180000Z
X-MICROSOFT-CDO-ALLDAYEVENT:FALSE
SUMMARY:2023 August General Membership Meeting
DESCRIPTION:Please join us Wednesday\, Aug. 20 at 12 noon for our next General Membership Meeting. We will give an update on the approaching Fall Festival and discuss ways that members can get involved to help with our largest community event of the year.\n\n\n\nWe will also give floor time to anyone for announcements related to their businesses and upcoming events.\n\n\n\nGrab a "to go" lunch from one of our great local restaurants and bring it to the meeting.
X-ALT-DESC;FMTTYPE=text/html:<span style="color: rgb(51\, 51\, 51)\; font-family: sans-serif\, Arial\, Verdana\, &quot\;Trebuchet MS&quot\;\; font-size: 13px\; background-color: rgb(255\, 255\, 255)\;">Please join us Wednesday\, Aug. 20 at 12 noon for our next General Membership Meeting.&nbsp\;We will give an update on the approaching Fall Festival and discuss ways that members can get involved to help with our largest community event of the year.<br />\n<br />\nWe will also give floor time to anyone for announcements related to their businesses and upcoming events.</span><br />\n<br />\n<span style="color: rgb(51\, 51\, 51)\; font-family: sans-serif\, Arial\, Verdana\, &quot\;Trebuchet MS&quot\;\; font-size: 13px\; background-color: rgb(255\, 255\, 255)\;">Grab a &ldquo\;to go&rdquo\; lunch from one of our great local restaurants and bring it to the meeting.</span><br style="color: rgb(51\, 51\, 51)\; font-family: sans-serif\, Arial\, Verdana\, &quot\;Trebuchet MS&quot\;\; font-size: 13px\;" />\n&nbsp\;
LOCATION:Coweta Assembly 29707 E. State Hwy. 51 Coweta
UID:e.1307.5286
SEQUENCE:3
DTSTAMP:20260424T112621Z
URL:https://business.cowetachamber.com/events/details/2023-august-general-membership-meeting-5286
END:VEVENT

END:VCALENDAR
