BEGIN:VCALENDAR
VERSION:2.0
PRODID:-//ChamberMaster//Event Calendar 2.0//EN
METHOD:PUBLISH
X-PUBLISHED-TTL:P3D
REFRESH-INTERVAL:P3D
CALSCALE:GREGORIAN
BEGIN:VEVENT
DTSTART:20220217T230000Z
DTEND:20220220T030000Z
X-MICROSOFT-CDO-ALLDAYEVENT:FALSE
SUMMARY:2022 Wagoner County Junior Livestock Show
DESCRIPTION:Mark your calendars to attend the Wagoner County Junior Livestock Show planned February 17\, 18 and 19 in Coweta. \n\n\n\nThe sheep and goat show will commence at 5 p.m. on Thursday\, Feb. 17 and the the hog show will begin at 5 p.m. on Friday\, Feb. 18. The cattle show will be held on Saturday\, Feb. 19 at 8 a.m.\n\n\n\nA buyer's dinner will be held Feb. 19 at 5:30 p.m. and the Premium Sale will follow at 7 p.m. All proceeds will benefit local and area 4-H and FFA livestock exhibitors.
X-ALT-DESC;FMTTYPE=text/html:Mark your calendars to attend the Wagoner County Junior Livestock Show planned February 17\, 18 and 19 in Coweta.&nbsp\;<br />\n<br />\nThe sheep and goat show will commence at 5 p.m. on Thursday\, Feb. 17 and the the hog show will begin at 5 p.m. on Friday\, Feb. 18. The cattle show will be held on Saturday\, Feb. 19 at 8 a.m.<br />\n<br />\nA buyer&#39\;s dinner will be held Feb. 19 at 5:30 p.m. and the Premium Sale will follow at 7 p.m. All proceeds will benefit local and area 4-H and FFA livestock exhibitors.
LOCATION:Wagoner County Fair Barn 30058 E. 14th St. S. Coweta\, OK
UID:e.1307.4379
SEQUENCE:3
DTSTAMP:20260419T122927Z
URL:https://business.cowetachamber.com/events/details/2022-wagoner-county-junior-livestock-show-4379
END:VEVENT

END:VCALENDAR
