BEGIN:VCALENDAR
VERSION:2.0
PRODID:-//ChamberMaster//Event Calendar 2.0//EN
METHOD:PUBLISH
X-PUBLISHED-TTL:P3D
REFRESH-INTERVAL:P3D
CALSCALE:GREGORIAN
BEGIN:VEVENT
DTSTART:20220219T153000Z
DTEND:20220219T160000Z
X-MICROSOFT-CDO-ALLDAYEVENT:FALSE
SUMMARY:2022 Ribbon Cutting for Rainbow Bowls
DESCRIPTION:Please join us as we welcome Rainbow Bowls into membership with the Coweta Chamber of Commerce!
X-ALT-DESC;FMTTYPE=text/html:Please join us as we welcome Rainbow Bowls into membership with the Coweta Chamber of Commerce!
LOCATION:Indigo Tie Dye 204 S. Broadway Coweta\, OK
UID:e.1307.4598
SEQUENCE:3
DTSTAMP:20260419T134559Z
URL:https://business.cowetachamber.com/events/details/2022-ribbon-cutting-for-rainbow-bowls-4598
END:VEVENT

END:VCALENDAR
