BEGIN:VCALENDAR
VERSION:2.0
PRODID:-//ChamberMaster//Event Calendar 2.0//EN
METHOD:PUBLISH
X-PUBLISHED-TTL:P3D
REFRESH-INTERVAL:P3D
CALSCALE:GREGORIAN
BEGIN:VEVENT
DTSTART:20220215T220000Z
DTEND:20220215T223000Z
X-MICROSOFT-CDO-ALLDAYEVENT:FALSE
SUMMARY:2022 Ribbon Cutting for Coweta Express Laundry Center
DESCRIPTION:Please join us as we welcome Coweta Express Laundry Center into membership with the Coweta Chamber of Commerce!
X-ALT-DESC;FMTTYPE=text/html:Please join us as we welcome Coweta Express Laundry Center into membership with the Coweta Chamber of Commerce!
LOCATION:Coweta Express Laundry Center 11170 S. 265th E. Ave. Coweta\, OK
UID:e.1307.4597
SEQUENCE:3
DTSTAMP:20260419T122337Z
URL:https://business.cowetachamber.com/events/details/2022-ribbon-cutting-for-coweta-express-laundry-center-4597
END:VEVENT

END:VCALENDAR
