BEGIN:VCALENDAR
VERSION:2.0
PRODID:-//ChamberMaster//Event Calendar 2.0//EN
METHOD:PUBLISH
X-PUBLISHED-TTL:P3D
REFRESH-INTERVAL:P3D
CALSCALE:GREGORIAN
BEGIN:VEVENT
DTSTART:20220216T180000Z
DTEND:20220216T190000Z
X-MICROSOFT-CDO-ALLDAYEVENT:FALSE
SUMMARY:2022 February General Membership Meeting
DESCRIPTION:Please join us for our February General Membership Meeting. Guest speaker(s) to be announced.\n\n\n\nFree meeting\, no meal will be served. Please support a local restaurant\, pick up a "to go" order and bring it with you. Remember your business cards as well for networking opportunities.
X-ALT-DESC;FMTTYPE=text/html:<span style="font-size:14px\;"><span style="color: rgb(51\, 51\, 51)\; font-family: sans-serif\, Arial\, Verdana\, &quot\;Trebuchet MS&quot\;\; background-color: rgb(255\, 255\, 255)\;">Please join us for our February General Membership Meeting. Guest speaker(s) to be announced.</span><br style="color: rgb(51\, 51\, 51)\; font-family: sans-serif\, Arial\, Verdana\, &quot\;Trebuchet MS&quot\;\; font-size: 13px\;" />\n<br style="color: rgb(51\, 51\, 51)\; font-family: sans-serif\, Arial\, Verdana\, &quot\;Trebuchet MS&quot\;\; font-size: 13px\;" />\n<span style="color: rgb(51\, 51\, 51)\; background-color: rgb(255\, 255\, 255)\; font-family: Roboto\, sans-serif\;">Free meeting\, no meal will be served. Please support a local restaurant\, pick up a &quot\;to go&quot\; order and bring it with you. Remember your business cards as well for networking opportunities.</span></span>
LOCATION:Coweta Assembly Family Life Center 29707 E. State Hwy. 51 Coweta\, OK 74429
UID:e.1307.4596
SEQUENCE:3
DTSTAMP:20260419T122808Z
URL:https://business.cowetachamber.com/events/details/2022-february-general-membership-meeting-4596
END:VEVENT

END:VCALENDAR
