BEGIN:VCALENDAR
VERSION:2.0
PRODID:-//ChamberMaster//Event Calendar 2.0//EN
METHOD:PUBLISH
X-PUBLISHED-TTL:P3D
REFRESH-INTERVAL:P3D
CALSCALE:GREGORIAN
BEGIN:VEVENT
DTSTART:20200114T140000Z
DTEND:20200114T153000Z
X-MICROSOFT-CDO-ALLDAYEVENT:FALSE
SUMMARY:2020 Women in Business Breakfast - January ~ Sponsored by: Dixie's Cafe
DESCRIPTION:Please plan to join us if you are you a woman in business.
X-ALT-DESC;FMTTYPE=text/html:Please plan to join us if you are you a woman in business.&nbsp\;
LOCATION:The Broadmore 102 N Broadway Coweta\, OK 74429
UID:e.1307.4096
SEQUENCE:3
DTSTAMP:20260422T060331Z
URL:https://business.cowetachamber.com/events/details/2020-women-in-business-breakfast-january-sponsored-by-dixie-s-cafe-4096
END:VEVENT

END:VCALENDAR
