BEGIN:VCALENDAR
VERSION:2.0
PRODID:-//ChamberMaster//Event Calendar 2.0//EN
METHOD:PUBLISH
X-PUBLISHED-TTL:P3D
REFRESH-INTERVAL:P3D
CALSCALE:GREGORIAN
BEGIN:VEVENT
DTSTART:20200328T150000Z
DTEND:20200328T200000Z
X-MICROSOFT-CDO-ALLDAYEVENT:FALSE
SUMMARY:2020 Wagoner County Emergency Preparedness and Safety Expo - CANCELLED
DESCRIPTION:This event has been CANCELLED.\n\n\n\n9th Annual Wagoner County Preparedness and Safety Expo PLUS 3M Scotts Firefighter Combat Challenge\n\n\n\nA free event for the public to raise awareness of what to do in a natural disaster in Oklahoma. There will be giveaways\, storm shelter companies and food truck's.\n\n\n\nThe 3M Scott Firefighter Combat Challenge is one event you don't want to miss. \n\nVisit the webpage for more details as they become available.\n\n\n\nExhibitor Application\n\nExpo Sponsorship Information\n\nTo like this event on Facebook\n\n\n\nLocation:\n\n Coweta High School\n\n14705 S 305th E Ave\n\nCoweta\, OK 74429
X-ALT-DESC;FMTTYPE=text/html:This event has been CANCELLED.<br />\n<br />\n9th Annual Wagoner County Preparedness and Safety Expo PLUS 3M Scotts Firefighter Combat Challenge<br />\n<br />\nA free event for the public to raise awareness of what to do in a natural disaster in Oklahoma. There will be giveaways\, storm shelter companies and food truck&#39\;s.<br />\n<br />\n<a href="https://www.eventbrite.com/e/coweta-firefighter-combat-challenge-2020-registration-90405783131">The 3M Scott Firefighter Combat Challenge</a> is one event you don&#39\;t want to miss.&nbsp\;<br />\nVisit the webpage for more details as they become available.<br />\n<br />\n<a href="http://www.123formbuilder.com/form-5227964/wagoner-county-emergency-expo-event-registration-form-2020">Exhibitor Application</a><br />\n<a href="https://chambermaster.blob.core.windows.net/userfiles/UserFiles/chambers/1307/File/2020/SponsorshipGuide.WCEPSE.pdf">Expo Sponsorship Information</a><br />\n<a href="https://www.facebook.com/Wagonercountypreparednessexpo/">To like this event on Facebook</a><br />\n<br />\n<span style="font-size:16px\;"><u><strong>Location:</strong></u><br />\n&#8203\;Coweta<span style="color: rgb(51\, 51\, 51)\; font-family: sans-serif\, Arial\, Verdana\, 'Trebuchet MS'\; line-height: 16.64px\; background-color: rgb(255\, 255\, 255)\;">&nbsp\;High School</span><br style="color: rgb(51\, 51\, 51)\; font-family: sans-serif\, Arial\, Verdana\, 'Trebuchet MS'\; font-size: 13px\; line-height: 16.64px\;" />\n<span style="color: rgb(51\, 51\, 51)\; font-family: sans-serif\, Arial\, Verdana\, 'Trebuchet MS'\; line-height: 16.64px\; background-color: rgb(255\, 255\, 255)\;">14705 S&nbsp\;</span>305th<span style="color: rgb(51\, 51\, 51)\; font-family: sans-serif\, Arial\, Verdana\, 'Trebuchet MS'\; line-height: 16.64px\; background-color: rgb(255\, 255\, 255)\;">&nbsp\;E Ave</span><br style="color: rgb(51\, 51\, 51)\; font-family: sans-serif\, Arial\, Verdana\, 'Trebuchet MS'\; font-size: 13px\; line-height: 16.64px\;" />\nCoweta<span style="color: rgb(51\, 51\, 51)\; font-family: sans-serif\, Arial\, Verdana\, 'Trebuchet MS'\; line-height: 16.64px\; background-color: rgb(255\, 255\, 255)\;">\, OK 74429</span></span>
LOCATION:Coweta High School 14705 S 305th E Ave Coweta\, OK 74429
UID:e.1307.4089
SEQUENCE:3
DTSTAMP:20260422T031831Z
URL:https://business.cowetachamber.com/events/details/2020-wagoner-county-emergency-preparedness-and-safety-expo-cancelled-4089
END:VEVENT

END:VCALENDAR
