BEGIN:VCALENDAR
VERSION:2.0
PRODID:-//ChamberMaster//Event Calendar 2.0//EN
METHOD:PUBLISH
X-PUBLISHED-TTL:P3D
REFRESH-INTERVAL:P3D
CALSCALE:GREGORIAN
BEGIN:VEVENT
DTSTART:20200310T220000Z
DTEND:20200311T003000Z
X-MICROSOFT-CDO-ALLDAYEVENT:FALSE
SUMMARY:2020 Ribbon Cutting and Off The Clock - Chinowth & Cohen Realtors
DESCRIPTION:Join us for not only the ribbon cutting for Chinowth and Cohen's beautiful new office space in downtown Coweta but you can also join us for a relaxed and casual networking opportunity. Food and beverages will be provided.
X-ALT-DESC;FMTTYPE=text/html:Join us for not only the ribbon cutting for Chinowth and Cohen&#39\;s beautiful new office space in downtown Coweta but you can also join us&nbsp\;for a relaxed and casual networking opportunity. Food and beverages will be provided.
LOCATION:Chinowth & Cohen Realtors 128 North Broadway Coweta\, OK 74429
UID:e.1307.4304
SEQUENCE:3
DTSTAMP:20260422T014815Z
URL:https://business.cowetachamber.com/events/details/2020-ribbon-cutting-and-off-the-clock-chinowth-cohen-realtors-4304
END:VEVENT

END:VCALENDAR
