BEGIN:VCALENDAR
VERSION:2.0
PRODID:-//ChamberMaster//Event Calendar 2.0//EN
METHOD:PUBLISH
X-PUBLISHED-TTL:P3D
REFRESH-INTERVAL:P3D
CALSCALE:GREGORIAN
BEGIN:VEVENT
DTSTART:20200115T180000Z
DTEND:20200115T190000Z
X-MICROSOFT-CDO-ALLDAYEVENT:FALSE
SUMMARY:2020 January Monthly Meeting - Getting The Most Out Of Your Chamber Membership
DESCRIPTION:I think we all want to start the new year off being the best we can be. One of those ways can be learning how to get the most out of your chamber membership. Have you logged into your Member Information Center recently? Do you even know how to get there? Have you updated your business hours\, address\, phone number\, etc? Let's work together to make the most out of your membership.
X-ALT-DESC;FMTTYPE=text/html:I think we all want to start the new year off being the best we can be. One of those ways can be learning how to get the most out of your chamber membership. Have you logged into your Member Information Center recently? Do you even know how to get there? Have you updated your business hours\, address\, phone number\, etc? Let&#39\;s work together to make the most out of your membership.
LOCATION:Coweta Assembly of God Church 29707 East State Highway 51 Coweta\, OK 74429
UID:e.1307.4091
SEQUENCE:3
DTSTAMP:20260422T060048Z
URL:https://business.cowetachamber.com/events/details/2020-january-monthly-meeting-getting-the-most-out-of-your-chamber-membership-4091
END:VEVENT

END:VCALENDAR
