BEGIN:VCALENDAR
VERSION:2.0
PRODID:-//ChamberMaster//Event Calendar 2.0//EN
METHOD:PUBLISH
X-PUBLISHED-TTL:P3D
REFRESH-INTERVAL:P3D
CALSCALE:GREGORIAN
BEGIN:VEVENT
DTSTART:20190330T150000Z
DTEND:20190330T200000Z
X-MICROSOFT-CDO-ALLDAYEVENT:FALSE
SUMMARY:2019 Wagoner County Emergency Preparedness and Safety Expo
DESCRIPTION:8th Annual Wagoner County Preparedness and Safety Expo PLUS 3M Scotts Firefighter Combat Challenge\n\n\n\nA free event for the public to raise awareness of what to do in a natural disaster in Oklahoma. There will be giveaways\, storm shelter companies and food truck's.\n\n\n\nThe 3M Scott Firefighter Combat Challenge is one event you don't want to miss. \n\nVisit the webpage for more details as they become available.\n\n\n\nExhibitor Application\n\nExpo Sponsorship Information\n\nFood Truck Application\n\nFirefighters Combat Challenge Rules\n\nFirefighters Combat Challenge Application\n\nTo like this event on Facebook\n\n\n\nLocation:\n\n Coweta High School\n\n14705 S 305th E Ave\n\nCoweta\, OK 74429
X-ALT-DESC;FMTTYPE=text/html:8th Annual Wagoner County Preparedness and Safety Expo PLUS 3M Scotts Firefighter Combat Challenge<br />\n<br />\nA free event for the public to raise awareness of what to do in a natural disaster in Oklahoma. There will be giveaways\, storm shelter companies and food truck&#39\;s.<br />\n<br />\nThe 3M Scott Firefighter Combat Challenge is one event you don&#39\;t want to miss.&nbsp\;<br />\nVisit the webpage for more details as they become available.<br />\n<br />\n<a href="https://www.123formbuilder.com/form-3161259/">Exhibitor Application</a><br />\n<a href="https://chambermaster.blob.core.windows.net/userfiles/UserFiles/chambers/1307/File/2019SponsorshipGuideWCEPSEnew.pdf">Expo Sponsorship Information</a><br />\nFood Truck Application<br />\n<a href="http://www.firefighterchallenge.com">Firefighters Combat Challenge Rules</a><br />\n<a href="http://www.firefighterchallenge.com">Firefighters Combat Challenge Application</a><br />\n<a href="https://www.facebook.com/Wagonercountypreparednessexpo/">To like this event on Facebook</a><br />\n<br />\n<span style="font-size:16px\;"><u><strong>Location:</strong></u><br />\n&#8203\;Coweta<span style="color: rgb(51\, 51\, 51)\; font-family: sans-serif\, Arial\, Verdana\, 'Trebuchet MS'\; line-height: 16.64px\; background-color: rgb(255\, 255\, 255)\;">&nbsp\;High School</span><br style="color: rgb(51\, 51\, 51)\; font-family: sans-serif\, Arial\, Verdana\, 'Trebuchet MS'\; font-size: 13px\; line-height: 16.64px\;" />\n<span style="color: rgb(51\, 51\, 51)\; font-family: sans-serif\, Arial\, Verdana\, 'Trebuchet MS'\; line-height: 16.64px\; background-color: rgb(255\, 255\, 255)\;">14705 S&nbsp\;</span>305th<span style="color: rgb(51\, 51\, 51)\; font-family: sans-serif\, Arial\, Verdana\, 'Trebuchet MS'\; line-height: 16.64px\; background-color: rgb(255\, 255\, 255)\;">&nbsp\;E Ave</span><br style="color: rgb(51\, 51\, 51)\; font-family: sans-serif\, Arial\, Verdana\, 'Trebuchet MS'\; font-size: 13px\; line-height: 16.64px\;" />\nCoweta<span style="color: rgb(51\, 51\, 51)\; font-family: sans-serif\, Arial\, Verdana\, 'Trebuchet MS'\; line-height: 16.64px\; background-color: rgb(255\, 255\, 255)\;">\, OK 74429</span></span>
LOCATION:Coweta High School 14705 S 305th E Ave Coweta\, OK 74429
UID:e.1307.3472
SEQUENCE:3
DTSTAMP:20260422T203957Z
URL:https://business.cowetachamber.com/events/details/2019-wagoner-county-emergency-preparedness-and-safety-expo-3472
END:VEVENT

END:VCALENDAR
