BEGIN:VCALENDAR
VERSION:2.0
PRODID:-//ChamberMaster//Event Calendar 2.0//EN
METHOD:PUBLISH
X-PUBLISHED-TTL:P3D
REFRESH-INTERVAL:P3D
CALSCALE:GREGORIAN
BEGIN:VEVENT
DTSTART:20190320T170000Z
DTEND:20190320T180000Z
X-MICROSOFT-CDO-ALLDAYEVENT:FALSE
SUMMARY:2019 March Monthly Meeting - Digital Marketing 101
DESCRIPTION:Please join us for Digital Marketing 101 class where you will learn the basics of online marketing from Jessica Kinsey with Prodigy & Co.\n\nJessica Kinsey is the founder of Prodigy & Co. As a Social Impact Strategist\, she provides valuable problem-solving solutions to her clients by building business plans and coaching clients through implementation. Additionally\, she teaches business fundamental workshops for entrepreneurs and nonprofits. She holds a bachelor's degree in finance and received her MBA from the University of Tulsa\, where she taught Creativity and Innovation in Business as an adjunct professor. When she's not developing winning strategies\, she enjoys traveling\, sampling new blends of coffee and wine\, cuddling with her puppy\, and discussing how to make the world a better place.
X-ALT-DESC;FMTTYPE=text/html:Please join us for Digital Marketing 101 class where you will learn the basics of online marketing from Jessica Kinsey with Prodigy &amp\; Co.<br />\n<span style="color:black\;"><span style="font-family:trebuchet ms\,sans-serif\;">Jessica Kinsey is the founder of Prodigy &amp\; Co. As a Social Impact Strategist\, she provides valuable problem-solving solutions to her clients by building business plans and coaching clients through implementation. </span></span><span style="color:#222222\;"><span style="font-family:trebuchet ms\,sans-serif\;">Additionally\, she teaches business fundamental workshops for entrepreneurs and nonprofits.</span></span> <span style="color:#222222\;"><span style="font-family:trebuchet ms\,sans-serif\;">She holds a bachelor&rsquo\;s degree in finance and received her MBA from the University of Tulsa\, where she taught Creativity and Innovation in Business as an adjunct professor.</span></span> <span style="color:#222222\;"><span style="font-family:trebuchet ms\,sans-serif\;">When she&rsquo\;s not developing winning strategies\, she enjoys traveling\, sampling new blends of coffee and wine\, cuddling with her puppy\, and discussing how to make the world a better place.</span></span><br />\n&nbsp\;
LOCATION:Coweta Assembly of God Church 29707 East State Highway 51 Coweta\, OK 74429
UID:e.1307.3479
SEQUENCE:3
DTSTAMP:20260422T203841Z
URL:https://business.cowetachamber.com/events/details/2019-march-monthly-meeting-tba-3479
END:VEVENT

END:VCALENDAR
