BEGIN:VCALENDAR
VERSION:2.0
PRODID:-//ChamberMaster//Event Calendar 2.0//EN
METHOD:PUBLISH
X-PUBLISHED-TTL:P3D
REFRESH-INTERVAL:P3D
CALSCALE:GREGORIAN
BEGIN:VEVENT
DTSTART:20190417T170000Z
DTEND:20190417T180000Z
X-MICROSOFT-CDO-ALLDAYEVENT:FALSE
SUMMARY:2019 April Monthly Meeting - Sandy Hodges\, Wagoner County Assessor
DESCRIPTION:Join us and hear from the Wagoner County Assessor\, Sandy Hodges.
X-ALT-DESC;FMTTYPE=text/html:Join us and hear from the Wagoner County Assessor\, Sandy Hodges.
LOCATION:Coweta Assembly of God Church 29707 East State Highway 51 Coweta\, OK 74429
UID:e.1307.3480
SEQUENCE:3
DTSTAMP:20260422T174651Z
URL:https://business.cowetachamber.com/events/details/2019-april-monthly-meeting-sandy-hodges-wagoner-county-assessor-3480
END:VEVENT

END:VCALENDAR
