BEGIN:VCALENDAR
VERSION:2.0
PRODID:-//ChamberMaster//Event Calendar 2.0//EN
METHOD:PUBLISH
X-PUBLISHED-TTL:P3D
REFRESH-INTERVAL:P3D
CALSCALE:GREGORIAN
BEGIN:VEVENT
DTSTART:20190302T003000Z
DTEND:20190302T040000Z
X-MICROSOFT-CDO-ALLDAYEVENT:FALSE
SUMMARY:2019 Annual Awards Banquet - Black and White
DESCRIPTION:2019 Annual Banquet\, Awards and Auction\n\nSponsorship & Ticket Opportunities
X-ALT-DESC;FMTTYPE=text/html:<span background-color:="" font-size:="" style="color: rgb(51\, 51\, 51)\; font-family: sans-serif\, Arial\, Verdana\, " trebuchet="">2019 Annual Banquet\, Awards and Auction<br />\n<a href="https://chambermaster.blob.core.windows.net/userfiles/UserFiles/chambers/1307/File/2019BanquetSponsorshipGuide1.pdf">Sponsorship &amp\; Ticket Opportunities</a></span><br font-size:="" style="color: rgb(51\, 51\, 51)\; font-family: sans-serif\, Arial\, Verdana\, " trebuchet="" />\n<br font-size:="" style="color: rgb(51\, 51\, 51)\; font-family: sans-serif\, Arial\, Verdana\, " trebuchet="" />\n<br font-size:="" style="color: rgb(51\, 51\, 51)\; font-family: sans-serif\, Arial\, Verdana\, " trebuchet="" />\n&nbsp\;
LOCATION:Rick's Place 33904 E 111th St S Coweta\, OK 74429
UID:e.1307.3471
SEQUENCE:3
DTSTAMP:20260422T204004Z
URL:https://business.cowetachamber.com/events/details/2019-annual-awards-banquet-black-and-white-3471
END:VEVENT

END:VCALENDAR
