BEGIN:VCALENDAR
VERSION:2.0
PRODID:-//ChamberMaster//Event Calendar 2.0//EN
METHOD:PUBLISH
X-PUBLISHED-TTL:P3D
REFRESH-INTERVAL:P3D
CALSCALE:GREGORIAN
BEGIN:VEVENT
DTSTART:20180322T203000Z
DTEND:20180322T210000Z
X-MICROSOFT-CDO-ALLDAYEVENT:FALSE
SUMMARY:2018 Ribbon Cutting - Carter Insurance Agency
DESCRIPTION:Join us for the Ribbon Cutting of Carter Insurance Agency.
X-ALT-DESC;FMTTYPE=text/html:Join us for the Ribbon Cutting of Carter Insurance Agency.
LOCATION:Carter Insurance Agency 124 E Chestnut Coweta\, OK 74429
UID:e.1307.2146
SEQUENCE:3
DTSTAMP:20260425T015106Z
URL:https://business.cowetachamber.com/events/details/2018-ribbon-cutting-carter-insurance-agency-2146
END:VEVENT

END:VCALENDAR
