BEGIN:VCALENDAR
VERSION:2.0
PRODID:-//ChamberMaster//Event Calendar 2.0//EN
METHOD:PUBLISH
X-PUBLISHED-TTL:P3D
REFRESH-INTERVAL:P3D
CALSCALE:GREGORIAN
BEGIN:VEVENT
DTSTART:20181115T220000Z
DTEND:20181115T223000Z
X-MICROSOFT-CDO-ALLDAYEVENT:FALSE
SUMMARY:2018 Ribbon Cutting - American Shaman CBD of Coweta
DESCRIPTION:Please join us for the Ribbon Cutting of American Shaman CBD of Coweta.
X-ALT-DESC;FMTTYPE=text/html:Please join us for the Ribbon Cutting of American Shaman CBD of Coweta.
LOCATION:11319 E Highway 51 #700 Coweta\, OK 74429
UID:e.1307.3459
SEQUENCE:3
DTSTAMP:20260424T130307Z
URL:https://business.cowetachamber.com/events/details/2018-ribbon-cutting-american-shaman-cbd-of-coweta-3459
END:VEVENT

END:VCALENDAR
