BEGIN:VCALENDAR
VERSION:2.0
PRODID:-//ChamberMaster//Event Calendar 2.0//EN
METHOD:PUBLISH
X-PUBLISHED-TTL:P3D
REFRESH-INTERVAL:P3D
CALSCALE:GREGORIAN
BEGIN:VEVENT
DTSTART:20181213T233000Z
DTEND:20181214T010000Z
X-MICROSOFT-CDO-ALLDAYEVENT:FALSE
SUMMARY:2018 Off The Clock - BancFirst
DESCRIPTION:Join us for a relaxed and casual networking opportunity. Food and beverages will be provided.
X-ALT-DESC;FMTTYPE=text/html:Join us for a relaxed and casual networking opportunity. Food and beverages will be provided.
LOCATION:BancFirst 14269 S State Hwy 51 Coweta\, OK 74429
UID:e.1307.3461
SEQUENCE:3
DTSTAMP:20260424T111932Z
URL:https://business.cowetachamber.com/events/details/2018-off-the-clock-bancfirst-3461
END:VEVENT

END:VCALENDAR
