BEGIN:VCALENDAR
VERSION:2.0
PRODID:-//ChamberMaster//Event Calendar 2.0//EN
METHOD:PUBLISH
X-PUBLISHED-TTL:P3D
REFRESH-INTERVAL:P3D
CALSCALE:GREGORIAN
BEGIN:VEVENT
DTSTART:20180620T170000Z
DTEND:20180620T180000Z
X-MICROSOFT-CDO-ALLDAYEVENT:FALSE
SUMMARY:2018 June Monthly Meeting - Small Business Administration
DESCRIPTION:The Small Business Administration will be speaking with us about all things small business.
X-ALT-DESC;FMTTYPE=text/html:The Small Business Administration will be speaking with us about all things small business.
LOCATION:Coweta Assembly of God Church 29707 East State Highway 51 Coweta\, OK 74429
UID:e.1307.2134
SEQUENCE:3
DTSTAMP:20260424T211015Z
URL:https://business.cowetachamber.com/events/details/2018-june-monthly-meeting-small-business-administration-2134
END:VEVENT

END:VCALENDAR
