BEGIN:VCALENDAR
VERSION:2.0
PRODID:-//ChamberMaster//Event Calendar 2.0//EN
METHOD:PUBLISH
X-PUBLISHED-TTL:P3D
REFRESH-INTERVAL:P3D
CALSCALE:GREGORIAN
BEGIN:VEVENT
DTSTART:20181219T180000Z
DTEND:20181219T190000Z
X-MICROSOFT-CDO-ALLDAYEVENT:FALSE
SUMMARY:2018 December Monthly Meeting - Meet and Greet & Tackiest Christmas Sweater Contest
DESCRIPTION:The Coweta Chamber will have some of the new 2018 Coweta Chamber Members introduce themselves and share what they have to offer as a business. There will also be a time to meet and greet with those in attendance.
X-ALT-DESC;FMTTYPE=text/html:The Coweta Chamber will have some of the new 2018 Coweta Chamber Members introduce themselves and share what they have to offer as a business.&nbsp\;There will also be a time to meet and greet with those in attendance.<br />\n&nbsp\;
LOCATION:Coweta Assembly of God Church 29707 East State Highway 51 Coweta\, OK 74429
UID:e.1307.2140
SEQUENCE:3
DTSTAMP:20260424T113025Z
URL:https://business.cowetachamber.com/events/details/2018-december-monthly-meeting-meet-and-greet-tackiest-christmas-sweater-contest-2140
END:VEVENT

END:VCALENDAR
