BEGIN:VCALENDAR
VERSION:2.0
PRODID:-//ChamberMaster//Event Calendar 2.0//EN
METHOD:PUBLISH
X-PUBLISHED-TTL:P3D
REFRESH-INTERVAL:P3D
CALSCALE:GREGORIAN
BEGIN:VEVENT
DTSTART:20181201T230000Z
DTEND:20181202T020000Z
X-MICROSOFT-CDO-ALLDAYEVENT:FALSE
SUMMARY:2018 Coweta Firefighters Auxiliary Chili Dinner
DESCRIPTION:The Coweta Firefighters Auxiliary will hold their annual Chili Dinner\, December 1st starting at 5:00p - 8:00p at the Coweta Fire Station.\n\n    \n\nStop by the Coweta Fire Station for dinner before the parade and support our Firefighters Auxiliary.
X-ALT-DESC;FMTTYPE=text/html:<span style="font-size: 11pt\;"><span style="font-family: georgia\,serif\;"><span style="color: rgb(51\, 46\, 43)\;">The Coweta Firefighters Auxiliary will hold their annual Chili Dinner\, December 1st starting at&nbsp\;5:00</span></span></span><span style="font-size: 11pt\;"><span style="font-family: georgia\,serif\;"><span style="color: rgb(51\, 46\, 43)\;">p -&nbsp\;8:00p at the Coweta Fire Station.</span></span></span><br />\n&nbsp\;&nbsp\;&nbsp\;&nbsp\;<br />\n<span style="font-size: 11pt\;"><span style="font-family: georgia\,serif\;"><span style="color: rgb(51\, 46\, 43)\;">Stop by the Coweta Fire Station for dinner before the parade and support our Firefighters Auxiliary.&nbsp\;&nbsp\;</span></span></span>
LOCATION:Coweta Fire Station 214 N Broadway
UID:e.1307.1724
SEQUENCE:3
DTSTAMP:20260424T112712Z
URL:https://business.cowetachamber.com/events/details/2018-coweta-firefighters-auxiliary-chili-dinner-1724
END:VEVENT

END:VCALENDAR
