BEGIN:VCALENDAR
VERSION:2.0
PRODID:-//ChamberMaster//Event Calendar 2.0//EN
METHOD:PUBLISH
X-PUBLISHED-TTL:P3D
REFRESH-INTERVAL:P3D
CALSCALE:GREGORIAN
BEGIN:VEVENT
DTSTART:20181220T180000Z
DTEND:20181220T180000Z
X-MICROSOFT-CDO-ALLDAYEVENT:FALSE
SUMMARY:2018 - 3rd Shop Coweta Drawing
DESCRIPTION:The numbers for the Shop Coweta campaign will be drawn and posted by noon on Monday\, December 10th. You can find the numbers here on our website or our Facebook Page.
X-ALT-DESC;FMTTYPE=text/html:The numbers for the Shop Coweta campaign will be drawn and posted by noon on Monday\, December 10th. You can find the numbers here on our website or our <a href="https://www.facebook.com/cowetachamberofcommerce/">Facebook Page</a>.&nbsp\;
LOCATION:The third drawing and final drawing will be December 20\, 2018 for any remaining unclaimed prizes and must be picked up no later than 5:00 p.m. on Wednesday\, December 26\, 2018.
UID:e.1307.3465
SEQUENCE:3
DTSTAMP:20260424T112703Z
URL:https://business.cowetachamber.com/events/details/2018-3rd-shop-coweta-drawing-3465
END:VEVENT

END:VCALENDAR
