BEGIN:VCALENDAR
VERSION:2.0
PRODID:-//ChamberMaster//Event Calendar 2.0//EN
METHOD:PUBLISH
X-PUBLISHED-TTL:P3D
REFRESH-INTERVAL:P3D
CALSCALE:GREGORIAN
BEGIN:VEVENT
DTSTART:20181214T180000Z
DTEND:20181214T180000Z
X-MICROSOFT-CDO-ALLDAYEVENT:FALSE
SUMMARY:2018 - 2nd Shop Coweta Drawing
DESCRIPTION:The numbers for the Shop Coweta campaign will be drawn and posted by noon on Monday\, December 10th. You can find the numbers here on our website or our Facebook Page.
X-ALT-DESC;FMTTYPE=text/html:The numbers for the Shop Coweta campaign will be drawn and posted by noon on Monday\, December 10th. You can find the numbers here on our website or our <a href="https://www.facebook.com/cowetachamberofcommerce/">Facebook Page</a>.&nbsp\;
LOCATION:The second drawing will be Friday\, December 14\, 2018 and the prizes must be picked up no later than 5:00 p.m. on Wednesday\, December 19\, 2018.
UID:e.1307.3464
SEQUENCE:3
DTSTAMP:20260424T112724Z
URL:https://business.cowetachamber.com/events/details/2018-2nd-shop-coweta-drawing-3464
END:VEVENT

END:VCALENDAR
