BEGIN:VCALENDAR
VERSION:2.0
PRODID:-//ChamberMaster//Event Calendar 2.0//EN
METHOD:PUBLISH
X-PUBLISHED-TTL:P3D
REFRESH-INTERVAL:P3D
CALSCALE:GREGORIAN
BEGIN:VEVENT
DTSTART:20180608T160000Z
DTEND:20180608T220000Z
X-MICROSOFT-CDO-ALLDAYEVENT:FALSE
SUMMARY:2018 26th Annual Coweta Chamber Golf Tournament
DESCRIPTION:The 2018 26th Annual Coweta Chamber of Commerce Golf Tournament\n\n4 man teams\, Scramble Format.\n\nRegistration begins at 11am\n\nTee Off is at 12pm
X-ALT-DESC;FMTTYPE=text/html:The 2018 26th Annual Coweta Chamber of Commerce Golf Tournament<br />\n4 man teams\, Scramble Format.<br />\nRegistration begins at 11am<br />\nTee Off is at 12pm<br />\n&#8203\;<br />\n<br />\n<br />\n&nbsp\;
LOCATION:The Woods Golf Club 11872 S. 274th E. Ave. Coweta\, OK 74429
UID:e.1307.2090
SEQUENCE:3
DTSTAMP:20260424T211231Z
URL:https://business.cowetachamber.com/events/details/2018-26th-annual-coweta-chamber-golf-tournament-2090
END:VEVENT

END:VCALENDAR
