BEGIN:VCALENDAR
VERSION:2.0
PRODID:-//ChamberMaster//Event Calendar 2.0//EN
METHOD:PUBLISH
X-PUBLISHED-TTL:P3D
REFRESH-INTERVAL:P3D
CALSCALE:GREGORIAN
BEGIN:VEVENT
DTSTART:20170812T130000Z
DTEND:20170812T170000Z
X-MICROSOFT-CDO-ALLDAYEVENT:FALSE
SUMMARY:2017 Second Saturday Street Market-August
DESCRIPTION:We are a seasonal street market running from April through October on the second Saturday of each month. We are located at 407 N Broadway in the parking lot of Coweta Public schools' nutrition building (next to Central Elementary). In addition to great vendors selling farm fresh produce\, honey\, canned\, baked goods and handmade items there is lots of fun with a free kids corner and live music. Come join us and shop local!
X-ALT-DESC;FMTTYPE=text/html:<span style="color: rgb(29\, 33\, 41)\; font-family: &quot\;Helvetica Neue&quot\;\, Helvetica\, Arial\, sans-serif\; font-size: 14px\; background-color: rgb(255\, 255\, 255)\;">We are a seasonal street market running from April through October on the second Saturday of each month. We are located at 407 N Broadway in the parking lot of Coweta Public schools&#39\; nutrition building (next to Central Elementary). In addition to great vendors selling farm fresh produce\, honey\, canned\, baked goods and handmade items there is lots of fun with a free kids cor</span><span style="color: rgb(29\, 33\, 41)\; font-family: &quot\;Helvetica Neue&quot\;\, Helvetica\, Arial\, sans-serif\; font-size: 14px\; background-color: rgb(255\, 255\, 255)\;">ner and live music. Come join us and shop local!</span>
LOCATION:407 N Broadway Coweta\, OK
UID:e.1307.1990
SEQUENCE:3
DTSTAMP:20260425T103451Z
URL:https://business.cowetachamber.com/events/details/2017-second-saturday-street-market-august-1990
END:VEVENT

END:VCALENDAR
