BEGIN:VCALENDAR
VERSION:2.0
PRODID:-//ChamberMaster//Event Calendar 2.0//EN
METHOD:PUBLISH
X-PUBLISHED-TTL:P3D
REFRESH-INTERVAL:P3D
CALSCALE:GREGORIAN
BEGIN:VEVENT
DTSTART:20170125T213000Z
DTEND:20170125T220000Z
X-MICROSOFT-CDO-ALLDAYEVENT:FALSE
SUMMARY:2017 Ribbon Cutting - VIP Voice Services
DESCRIPTION:Join us for the Ribbon Cutting of VIP Voice Services.
X-ALT-DESC;FMTTYPE=text/html:Join us for the Ribbon Cutting of VIP Voice Services.
LOCATION:VIP Voice Services 12149 S State HWY 51 Coweta\, OK 74429
UID:e.1307.1972
SEQUENCE:3
DTSTAMP:20260425T212212Z
URL:https://business.cowetachamber.com/events/details/2017-ribbon-cutting-vip-voice-services-1972
END:VEVENT

END:VCALENDAR
