BEGIN:VCALENDAR
VERSION:2.0
PRODID:-//ChamberMaster//Event Calendar 2.0//EN
METHOD:PUBLISH
X-PUBLISHED-TTL:P3D
REFRESH-INTERVAL:P3D
CALSCALE:GREGORIAN
BEGIN:VEVENT
DTSTART:20170622T203000Z
DTEND:20170622T210000Z
X-MICROSOFT-CDO-ALLDAYEVENT:FALSE
SUMMARY:2017 Ribbon Cutting - Venue 51
DESCRIPTION:Join us for the Ribbon Cutting of Venue 51.
X-ALT-DESC;FMTTYPE=text/html:Join us for the Ribbon Cutting of Venue 51.
LOCATION:Venue 51 12220 S State HWY 51 Suite 3 Coweta\, OK 74429
UID:e.1307.2016
SEQUENCE:3
DTSTAMP:20260425T133816Z
URL:https://business.cowetachamber.com/events/details/2017-ribbon-cutting-venue-51-2016
END:VEVENT

END:VCALENDAR
