BEGIN:VCALENDAR
VERSION:2.0
PRODID:-//ChamberMaster//Event Calendar 2.0//EN
METHOD:PUBLISH
X-PUBLISHED-TTL:P3D
REFRESH-INTERVAL:P3D
CALSCALE:GREGORIAN
BEGIN:VEVENT
DTSTART:20170127T173000Z
DTEND:20170127T180000Z
X-MICROSOFT-CDO-ALLDAYEVENT:FALSE
SUMMARY:2017 Ribbon Cutting - RCB Bank
DESCRIPTION:Join us for the Ribbon Cutting of RCB Bank.
X-ALT-DESC;FMTTYPE=text/html:Join us for the Ribbon Cutting of RCB Bank.
LOCATION:RCB Bank 27010 E. 116th St. South Coweta\, OK 74429
UID:e.1307.1984
SEQUENCE:3
DTSTAMP:20260425T212141Z
URL:https://business.cowetachamber.com/events/details/2017-ribbon-cutting-rcb-bank-1984
END:VEVENT

END:VCALENDAR
