BEGIN:VCALENDAR
VERSION:2.0
PRODID:-//ChamberMaster//Event Calendar 2.0//EN
METHOD:PUBLISH
X-PUBLISHED-TTL:P3D
REFRESH-INTERVAL:P3D
CALSCALE:GREGORIAN
BEGIN:VEVENT
DTSTART:20170824T203000Z
DTEND:20170824T210000Z
X-MICROSOFT-CDO-ALLDAYEVENT:FALSE
SUMMARY:2017 Ribbon Cutting - Natalie Bonham
DESCRIPTION:Join us for the Grand Opening and Ribbon Cutting of Shelter Insurance - Natalie Bonham.
X-ALT-DESC;FMTTYPE=text/html:Join us for the Grand Opening and Ribbon Cutting of Shelter Insurance - Natalie Bonham.
LOCATION:Shelter Insurance - Natalie Bonham 11150 S 265th E Ave Ste B Coweta\, OK 74429
UID:e.1307.2052
SEQUENCE:3
DTSTAMP:20260425T103602Z
URL:https://business.cowetachamber.com/events/details/2017-ribbon-cutting-natalie-bonham-2052
END:VEVENT

END:VCALENDAR
