BEGIN:VCALENDAR
VERSION:2.0
PRODID:-//ChamberMaster//Event Calendar 2.0//EN
METHOD:PUBLISH
X-PUBLISHED-TTL:P3D
REFRESH-INTERVAL:P3D
CALSCALE:GREGORIAN
BEGIN:VEVENT
DTSTART:20170814T230000Z
DTEND:20170815T000000Z
X-MICROSOFT-CDO-ALLDAYEVENT:FALSE
SUMMARY:2017 Pageant Meet and Greet
DESCRIPTION:Join us for the Pageant Meet and Greet to learn more about the pageant.
X-ALT-DESC;FMTTYPE=text/html:Join us for the Pageant Meet and Greet to learn more about the pageant.
LOCATION:The Broadmore 102 N Broadway St Coweta\, OK 74429
UID:e.1307.2056
SEQUENCE:3
DTSTAMP:20260425T103437Z
URL:https://business.cowetachamber.com/events/details/2017-pageant-meet-and-greet-2056
END:VEVENT

END:VCALENDAR
