BEGIN:VCALENDAR
VERSION:2.0
PRODID:-//ChamberMaster//Event Calendar 2.0//EN
METHOD:PUBLISH
X-PUBLISHED-TTL:P3D
REFRESH-INTERVAL:P3D
CALSCALE:GREGORIAN
BEGIN:VEVENT
DTSTART:20170828T230000Z
DTEND:20170829T000000Z
X-MICROSOFT-CDO-ALLDAYEVENT:FALSE
SUMMARY:2017 Pageant Mandatory Meeting - MOVED TO AUGUST 28
DESCRIPTION:Join us for the Mandatory Pageant Meeting.
X-ALT-DESC;FMTTYPE=text/html:Join us for the Mandatory Pageant Meeting.
LOCATION:The Broadmore 102 N Broadway St Coweta\, OK 74429
UID:e.1307.2058
SEQUENCE:3
DTSTAMP:20260425T103732Z
URL:https://business.cowetachamber.com/events/details/2017-pageant-mandatory-meeting-moved-to-august-28-2058
END:VEVENT

END:VCALENDAR
