BEGIN:VCALENDAR
VERSION:2.0
PRODID:-//ChamberMaster//Event Calendar 2.0//EN
METHOD:PUBLISH
X-PUBLISHED-TTL:P3D
REFRESH-INTERVAL:P3D
CALSCALE:GREGORIAN
BEGIN:VEVENT
DTSTART:20170429T230000Z
DTEND:20170430T030000Z
X-MICROSOFT-CDO-ALLDAYEVENT:FALSE
SUMMARY:2017 Movies Under the Stars - Trolls
DESCRIPTION:"Movies Under The Stars" has come back to Coweta and will be held once a month through September. The movie will be shown the last Saturday of each month (April thru September). \n\nFamilies are invited to bring their lawn chairs\, blankets and snacks and come to the green space before dusk.\n\nThis is a free\, fun event for the entire family. Remember no alcoholic beverages are allowed.
X-ALT-DESC;FMTTYPE=text/html:<p style="background: white\;"><span style="font-family: arial\;"><span style="font-size: 10.5pt\;">&quot\;Movies Under The Stars&quot\; has come back to Coweta and will be held once a month through September. The movie will&nbsp\;be shown the last Saturday of each month (April&nbsp\;thru September).&nbsp\;</span></span></p>\n\n<p style="background: white\;"><span style="font-family: arial\;"><span style="font-size: 10.5pt\;">Families are invited to bring their lawn chairs\, blankets and snacks and come to the green space before dusk.</span></span></p>\n\n<p style="background: white\;"><span style="font-family: arial\;"><span style="font-size: 10.5pt\;">This is a free\, fun event for the entire family. Remember no alcoholic beverages are allowed.</span></span></p>\n
LOCATION:Green Space across from Mission Bell Museum. Corner of Cypress and Bristow
UID:e.1307.1999
SEQUENCE:3
DTSTAMP:20260425T165157Z
URL:https://business.cowetachamber.com/events/details/2017-movies-under-the-stars-trolls-1999
END:VEVENT

END:VCALENDAR
