BEGIN:VCALENDAR
VERSION:2.0
PRODID:-//ChamberMaster//Event Calendar 2.0//EN
METHOD:PUBLISH
X-PUBLISHED-TTL:P3D
REFRESH-INTERVAL:P3D
CALSCALE:GREGORIAN
BEGIN:VEVENT
DTSTART:20170517T164500Z
DTEND:20170517T180000Z
X-MICROSOFT-CDO-ALLDAYEVENT:FALSE
SUMMARY:2017 May Monthly Meeting - State of the Chamber Address
DESCRIPTION:Join us and here from the Chamber Board President\, Sarah Wall on the state of the Coweta Chamber for 2017.
X-ALT-DESC;FMTTYPE=text/html:Join us and here from the Chamber Board President\, Sarah Wall on the state of the Coweta Chamber for 2017.
LOCATION:Coweta Assembly of God Church 29707 East State Highway 51 Coweta\, OK 74429
UID:e.1307.1976
SEQUENCE:3
DTSTAMP:20260425T154136Z
URL:https://business.cowetachamber.com/events/details/2017-may-monthly-meeting-state-of-the-chamber-address-1976
END:VEVENT

END:VCALENDAR
